BEGIN:VCALENDAR
VERSION:2.0
PRODID:-//Three Feathers Wines &amp; Vineyards - ECPv6.15.20//NONSGML v1.0//EN
CALSCALE:GREGORIAN
METHOD:PUBLISH
X-ORIGINAL-URL:https://threefeathersestate.com
X-WR-CALDESC:Events for Three Feathers Wines &amp; Vineyards
REFRESH-INTERVAL;VALUE=DURATION:PT1H
X-Robots-Tag:noindex
X-PUBLISHED-TTL:PT1H
BEGIN:VTIMEZONE
TZID:America/Los_Angeles
BEGIN:DAYLIGHT
TZOFFSETFROM:-0800
TZOFFSETTO:-0700
TZNAME:PDT
DTSTART:20230312T100000
END:DAYLIGHT
BEGIN:STANDARD
TZOFFSETFROM:-0700
TZOFFSETTO:-0800
TZNAME:PST
DTSTART:20231105T090000
END:STANDARD
BEGIN:DAYLIGHT
TZOFFSETFROM:-0800
TZOFFSETTO:-0700
TZNAME:PDT
DTSTART:20240310T100000
END:DAYLIGHT
BEGIN:STANDARD
TZOFFSETFROM:-0700
TZOFFSETTO:-0800
TZNAME:PST
DTSTART:20241103T090000
END:STANDARD
BEGIN:DAYLIGHT
TZOFFSETFROM:-0800
TZOFFSETTO:-0700
TZNAME:PDT
DTSTART:20250309T100000
END:DAYLIGHT
BEGIN:STANDARD
TZOFFSETFROM:-0700
TZOFFSETTO:-0800
TZNAME:PST
DTSTART:20251102T090000
END:STANDARD
END:VTIMEZONE
BEGIN:VEVENT
DTSTART;TZID=America/Los_Angeles:20241013T130000
DTEND;TZID=America/Los_Angeles:20241013T160000
DTSTAMP:20260425T154525
CREATED:20240409T081320Z
LAST-MODIFIED:20240918T143829Z
UID:21530-1728824400-1728835200@threefeathersestate.com
SUMMARY:Three Feathers Wine Pour at Williams-Sonoma - Washington Square
DESCRIPTION:Three Feathers is Pouring at Williams-Sonoma – Washington Square\n \n  \nJoin us for a Three Feathers Wine Pour at Williams-Sonoma – 9367 SW Washington Square Rd\, Tigard\, OR 97223.  We will be there on Sunday\, October 13th from 1 – 4 pm. \nThe nation’s premier Kitchen Store paired with the region’s most unknown hidden gem boutique winery! We are proud to be able to demonstrate our wines at this gorgeous venue. \nThese complimentary tastings are great opportunity to try and purchase a selection of Three Feathers Wines\, such as our 2022 Pinot Gris and 2020 Pinot Madeleine.
URL:https://threefeathersestate.com/event/three-feathers-wine-pour-at-williams-sonoma-washington-square-26/
LOCATION:Williams-Sonoma – Washington Square\, 9367 SW Washington Square Road\, Tigard\, OR\, 97223\, United States
CATEGORIES:Wine Tasting
ATTACH;FMTTYPE=image/jpeg:https://threefeathersestate.com/wp-content/uploads/2021/07/williams-sonoma-the-store-is-yours-three-feathers-tasting.jpg
ORGANIZER;CN="Three Feathers Estate":MAILTO:contactus@threefeathersestate.com
END:VEVENT
BEGIN:VEVENT
DTSTART;TZID=America/Los_Angeles:20241025T150000
DTEND;TZID=America/Los_Angeles:20241025T180000
DTSTAMP:20260425T154525
CREATED:20230221T203912Z
LAST-MODIFIED:20240918T143554Z
UID:20359-1729868400-1729879200@threefeathersestate.com
SUMMARY:Three Feathers Wine Pour at New Seasons Market (Orenco Station) in Hillsboro
DESCRIPTION:Three Feathers Wine Pour at New Seasons Market (Orenco Station) in Hillsboro\n \nJoin us for a Three Feathers Wine Pour at New Seasons Market (Orenco Station) in Hillsboro.   We will be there on Friday\, October 25th from 3 – 3 pm. \nThese complimentary tastings are great opportunity to try and purchase a selection of Three Feathers Wines\, such as our 2022 Pinot Gris and 2020 Pinot Madeleine.
URL:https://threefeathersestate.com/event/three-feathers-wine-pour-at-new-seasons-market-orenco-station-in-hillsboro/
LOCATION:New Seasons Market – Orenco Station\, 1453 Northeast 61st Avenue\, Hillsboro\, OR\, 97124\, United States
CATEGORIES:Wine Tasting
ATTACH;FMTTYPE=image/jpeg:https://threefeathersestate.com/wp-content/uploads/2023/02/new-seasons-market-orenco-station.jpg
ORGANIZER;CN="Three Feathers Estate":MAILTO:contactus@threefeathersestate.com
END:VEVENT
BEGIN:VEVENT
DTSTART;TZID=America/Los_Angeles:20241026T130000
DTEND;TZID=America/Los_Angeles:20241026T160000
DTSTAMP:20260425T154525
CREATED:20230723T161018Z
LAST-MODIFIED:20240918T144427Z
UID:20934-1729947600-1729958400@threefeathersestate.com
SUMMARY:Three Feathers Wine Pour at Williams-Sonoma - Washington Square
DESCRIPTION:Three Feathers is Pouring at Williams-Sonoma – Washington Square\n \nJoin us for a Three Feathers Wine Pour at Williams-Sonoma – 9367 SW Washington Square Rd\, Tigard\, OR 97223.  We will be there on Saturday\, October 26th from 1 – 4 pm. \nThe nation’s premier Kitchen Store paired with the region’s most unknown hidden gem boutique winery! We are proud to be able to demonstrate our wines at this gorgeous venue. \nThese complimentary tastings are great opportunity to try and purchase a selection of Three Feathers Wines\, such as our 2022 Pinot Gris and 2020 Pinot Madeleine.
URL:https://threefeathersestate.com/event/three-feathers-wine-pour-at-williams-sonoma-washington-square-17/
LOCATION:Williams-Sonoma – Washington Square\, 9367 SW Washington Square Road\, Tigard\, OR\, 97223\, United States
CATEGORIES:Wine Tasting
ATTACH;FMTTYPE=image/jpeg:https://threefeathersestate.com/wp-content/uploads/2022/06/three-feathers-wines-at-williams-sonoma-washington-square-location.jpg
ORGANIZER;CN="Three Feathers Estate":MAILTO:contactus@threefeathersestate.com
END:VEVENT
END:VCALENDAR