BEGIN:VCALENDAR
VERSION:2.0
PRODID:-//Three Feathers Wines &amp; Vineyards - ECPv6.15.20//NONSGML v1.0//EN
CALSCALE:GREGORIAN
METHOD:PUBLISH
X-WR-CALNAME:Three Feathers Wines &amp; Vineyards
X-ORIGINAL-URL:https://threefeathersestate.com
X-WR-CALDESC:Events for Three Feathers Wines &amp; Vineyards
REFRESH-INTERVAL;VALUE=DURATION:PT1H
X-Robots-Tag:noindex
X-PUBLISHED-TTL:PT1H
BEGIN:VTIMEZONE
TZID:America/Los_Angeles
BEGIN:DAYLIGHT
TZOFFSETFROM:-0800
TZOFFSETTO:-0700
TZNAME:PDT
DTSTART:20240310T100000
END:DAYLIGHT
BEGIN:STANDARD
TZOFFSETFROM:-0700
TZOFFSETTO:-0800
TZNAME:PST
DTSTART:20241103T090000
END:STANDARD
BEGIN:DAYLIGHT
TZOFFSETFROM:-0800
TZOFFSETTO:-0700
TZNAME:PDT
DTSTART:20250309T100000
END:DAYLIGHT
BEGIN:STANDARD
TZOFFSETFROM:-0700
TZOFFSETTO:-0800
TZNAME:PST
DTSTART:20251102T090000
END:STANDARD
BEGIN:DAYLIGHT
TZOFFSETFROM:-0800
TZOFFSETTO:-0700
TZNAME:PDT
DTSTART:20260308T100000
END:DAYLIGHT
BEGIN:STANDARD
TZOFFSETFROM:-0700
TZOFFSETTO:-0800
TZNAME:PST
DTSTART:20261101T090000
END:STANDARD
END:VTIMEZONE
BEGIN:VEVENT
DTSTART;TZID=America/Los_Angeles:20250402T173000
DTEND;TZID=America/Los_Angeles:20250402T200000
DTSTAMP:20260425T085603
CREATED:20240409T073431Z
LAST-MODIFIED:20250301T193142Z
UID:21518-1743615000-1743624000@threefeathersestate.com
SUMMARY:Three Feathers Wine Pour at Oregon Wine Reserve - Lake Oswego
DESCRIPTION:  \nJoin us for a Three Feathers Wine Pour at Oregon Wine Reserve\, 600 N. State Street\, Lake Oswego – 97034.  We will be there on Wednesday\, April 2nd from 5:30 – 8 pm. \nThese complimentary tastings are great opportunity to try and purchase a selection of Three Feathers Wines\, such as our 2022 Pinot Gris and 2024 Pinot POP.
URL:https://threefeathersestate.com/event/three-feathers-wine-pour-at-oregon-wine-reserve-lake-oswego-2/
LOCATION:Oregon Wine Reserve\, 600 North State Street\, Lake Oswego\, OR\, 97034\, United States
CATEGORIES:Wine Tasting
ATTACH;FMTTYPE=image/jpeg:https://threefeathersestate.com/wp-content/uploads/2023/10/three-feathers-wine-pour-oregon-wine-reserve-2023.jpg
ORGANIZER;CN="Three Feathers Estate":MAILTO:contactus@threefeathersestate.com
END:VEVENT
BEGIN:VEVENT
DTSTART;TZID=America/Los_Angeles:20250404T150000
DTEND;TZID=America/Los_Angeles:20250404T180000
DTSTAMP:20260425T085603
CREATED:20241109T164611Z
LAST-MODIFIED:20250322T150122Z
UID:21889-1743778800-1743789600@threefeathersestate.com
SUMMARY:Three Feathers Wine Pour at New Seasons Market in Hawthorne
DESCRIPTION:Three Feathers is Pouring at New Seasons Market in Hawthorne\n \nJoin us for a Three Feathers Wine Pour at New Seasons Market in Hawthorne.   We will be there on Friday\, April 4th from 3 – 6 pm during their Wine Sale. \nThese complimentary tastings are great opportunity to try and purchase a selection of Three Feathers Wines\, such as our 2022 Pinot Gris and 2020 Pinot Madeleine.
URL:https://threefeathersestate.com/event/three-feathers-wine-pour-at-new-seasons-market-in-hawthorne/
LOCATION:New Seasons Hawthorne\, 4034 SE Hawthorne Boulevard\, Portland\, OR\, 97214\, United States
CATEGORIES:Wine Tasting
ATTACH;FMTTYPE=image/jpeg:https://threefeathersestate.com/wp-content/uploads/2023/10/new-seasons-hawthorne-store.jpg
ORGANIZER;CN="Three Feathers Estate":MAILTO:contactus@threefeathersestate.com
END:VEVENT
BEGIN:VEVENT
DTSTART;TZID=America/Los_Angeles:20250412T130000
DTEND;TZID=America/Los_Angeles:20250412T160000
DTSTAMP:20260425T085603
CREATED:20241003T183422Z
LAST-MODIFIED:20250322T150254Z
UID:21835-1744462800-1744473600@threefeathersestate.com
SUMMARY:Three Feathers Wine Pour at Crate&Barrel in Bridgeport Village
DESCRIPTION:Three Feathers Wine Pour at Crate&Barrel in Bridgeport Village\n \nJoin us for a Three Feathers Wine Pour at Crate&Barrel in Bridgeport Village.   We will be there on Saturday\, April 12th from 1 – 4 pm. \nThese complimentary tastings are great opportunity to try and purchase a selection of Three Feathers Wines\, such as our 2022 Pinot Gris and 2020 Pinot Madeleine.
URL:https://threefeathersestate.com/event/three-feathers-wine-pour-at-cratebarrel-in-bridgeport-village/
LOCATION:Crate&Barrel\, 7267 SW Bridgeport Rd\, Tigard\, OR\, 97224\, United States
CATEGORIES:Wine Tasting
ATTACH;FMTTYPE=image/jpeg:https://threefeathersestate.com/wp-content/uploads/2024/10/cratebarrel-wine-pour.jpg
ORGANIZER;CN="Three Feathers Estate":MAILTO:contactus@threefeathersestate.com
END:VEVENT
BEGIN:VEVENT
DTSTART;TZID=America/Los_Angeles:20250423T130000
DTEND;TZID=America/Los_Angeles:20250423T160000
DTSTAMP:20260425T085603
CREATED:20230723T175832Z
LAST-MODIFIED:20250412T174728Z
UID:20957-1745413200-1745424000@threefeathersestate.com
SUMMARY:Three Feathers Wine Pour at New Seasons Market in Raleigh Hills
DESCRIPTION:Three Feathers is Pouring at New Seasons Market in Raleigh Hills\n \nJoin us for a Three Feathers Wine Pour at New Seasons Market in Raleigh Hills.   We will be there on Wednesday\, April 23rd from 3 – 6 pm. \nThese complimentary tastings are great opportunity to try and purchase a selection of Three Feathers Wines\, such as our 2022 Pinot Gris and 2020 Pinot Madeleine.
URL:https://threefeathersestate.com/event/three-feathers-wine-pour-at-new-seasons-market-in-raleigh-hills/
LOCATION:New Seasons Raleigh Hills\, 7300 Southwest Beaverton Hillsdale Highway Portland\, Raleigh Hills\, OR\, 97225\, United States
CATEGORIES:Wine Tasting
ATTACH;FMTTYPE=image/jpeg:https://threefeathersestate.com/wp-content/uploads/2023/07/three-feathers-wine-pour-new-seasons-raleigh-hills.jpg
ORGANIZER;CN="Three Feathers Estate":MAILTO:contactus@threefeathersestate.com
END:VEVENT
BEGIN:VEVENT
DTSTART;TZID=America/Los_Angeles:20250426T110000
DTEND;TZID=America/Los_Angeles:20250426T140000
DTSTAMP:20260425T085603
CREATED:20230320T203636Z
LAST-MODIFIED:20250412T175308Z
UID:20575-1745665200-1745676000@threefeathersestate.com
SUMMARY:Three Feathers Wine Pour at Market of Choice - Belmont Location
DESCRIPTION:Three Feathers Wine Pour at Market of Choice – Belmont Location (East Side)\n \nJoin us for a Three Feathers Wine Pour at Market of Choice – Belmont Location – 1090 SE Belmont Street\, Portland\, OR 97214 on Saturday\, April 26th from 11 – 2 pm. \nYou can purchase our wines throughout the year at this Market of Choice location\, however this is an opportunity to attend a complimentary tasting and try them first! \n \nCheck out our other schedule Wine Tastings on our Events Calendar!
URL:https://threefeathersestate.com/event/three-feathers-wine-pour-at-market-of-choice-belmont-location-2/
LOCATION:Market of Choice – Belmont Location\, 1090 SE Belmont Street\, Portland\, Oregon\, 97214\, United States
CATEGORIES:Wine Tasting
ATTACH;FMTTYPE=image/jpeg:https://threefeathersestate.com/wp-content/uploads/2022/06/three-feathers-wine-tasting-at-market-of-choice-belmont-location-1.jpg
ORGANIZER;CN="Three Feathers Estate":MAILTO:contactus@threefeathersestate.com
END:VEVENT
BEGIN:VEVENT
DTSTART;TZID=America/Los_Angeles:20250426T140000
DTEND;TZID=America/Los_Angeles:20250426T170000
DTSTAMP:20260425T085603
CREATED:20230821T174601Z
LAST-MODIFIED:20250412T175015Z
UID:21020-1745676000-1745686800@threefeathersestate.com
SUMMARY:Three Feathers Wine Pour at New Seasons Market in Sellwood
DESCRIPTION:Three Feathers Wine Pour at New Seasons Market in Sellwood\n© New Seasons Market \nJoin us for a Three Feathers Wine Pour at New Seasons Market in Sellwood.   We will be there on Saturday\, April 26th from 2 – 5 pm. \nThese complimentary tastings are great opportunity to try and purchase a selection of Three Feathers Wines\, such as our 2022 Pinot Gris and 2020 Pinot Madeleine.
URL:https://threefeathersestate.com/event/three-feathers-wine-pour-at-new-seasons-market-in-sellwood/
LOCATION:New Seasons Market – Sellwood\, 1214 Southeast Tacoma Street\, Portland\, OR\, 97202\, United States
CATEGORIES:Wine Tasting
ATTACH;FMTTYPE=image/jpeg:https://threefeathersestate.com/wp-content/uploads/2023/08/new-seasons-market-sellwood-three-feathers-wine-pour.jpg
ORGANIZER;CN="Three Feathers Estate":MAILTO:contactus@threefeathersestate.com
END:VEVENT
END:VCALENDAR