BEGIN:VCALENDAR
VERSION:2.0
PRODID:-//Three Feathers Wines &amp; Vineyards - ECPv6.15.20//NONSGML v1.0//EN
CALSCALE:GREGORIAN
METHOD:PUBLISH
X-WR-CALNAME:Three Feathers Wines &amp; Vineyards
X-ORIGINAL-URL:https://threefeathersestate.com
X-WR-CALDESC:Events for Three Feathers Wines &amp; Vineyards
REFRESH-INTERVAL;VALUE=DURATION:PT1H
X-Robots-Tag:noindex
X-PUBLISHED-TTL:PT1H
BEGIN:VTIMEZONE
TZID:America/Los_Angeles
BEGIN:DAYLIGHT
TZOFFSETFROM:-0800
TZOFFSETTO:-0700
TZNAME:PDT
DTSTART:20240310T100000
END:DAYLIGHT
BEGIN:STANDARD
TZOFFSETFROM:-0700
TZOFFSETTO:-0800
TZNAME:PST
DTSTART:20241103T090000
END:STANDARD
BEGIN:DAYLIGHT
TZOFFSETFROM:-0800
TZOFFSETTO:-0700
TZNAME:PDT
DTSTART:20250309T100000
END:DAYLIGHT
BEGIN:STANDARD
TZOFFSETFROM:-0700
TZOFFSETTO:-0800
TZNAME:PST
DTSTART:20251102T090000
END:STANDARD
BEGIN:DAYLIGHT
TZOFFSETFROM:-0800
TZOFFSETTO:-0700
TZNAME:PDT
DTSTART:20260308T100000
END:DAYLIGHT
BEGIN:STANDARD
TZOFFSETFROM:-0700
TZOFFSETTO:-0800
TZNAME:PST
DTSTART:20261101T090000
END:STANDARD
END:VTIMEZONE
BEGIN:VEVENT
DTSTART;TZID=America/Los_Angeles:20250608T130000
DTEND;TZID=America/Los_Angeles:20250608T150000
DTSTAMP:20260425T041807
CREATED:20240131T201105Z
LAST-MODIFIED:20250607T162022Z
UID:21425-1749387600-1749394800@threefeathersestate.com
SUMMARY:Three Feathers Wine Pour at New Seasons Market (Mountain Park) in Lake Oswego
DESCRIPTION:Three Feathers Wine Pour at New Seasons Market (Mountain Park) in Lake Oswego\n \nJoin us for a Three Feathers Wine Pour at New Seasons Market (Mountain Park) in Lake Oswego.   We will be there on Sunday\, June 8th from 1 – 3 pm. \nThese complimentary tastings are great opportunity to try and purchase a selection of Three Feathers Wines\, such as our 2022 Pinot Gris and 2020 Pinot Madeleine.
URL:https://threefeathersestate.com/event/three-feathers-wine-pour-at-new-seasons-market-mountain-park-in-lake-oswego-4/
LOCATION:New Seasons Market – Mountain Park\, Lake Oswego\, 3 Monroe Parkway\, Lake Oswego\, OR\, 97035\, United States
CATEGORIES:Wine Tasting
ATTACH;FMTTYPE=image/jpeg:https://threefeathersestate.com/wp-content/uploads/2023/02/new-seasons-market-mountain-park-lake-oswego.jpg
ORGANIZER;CN="Three Feathers Estate":MAILTO:contactus@threefeathersestate.com
END:VEVENT
BEGIN:VEVENT
DTSTART;TZID=America/Los_Angeles:20250613T150000
DTEND;TZID=America/Los_Angeles:20250613T180000
DTSTAMP:20260425T041807
CREATED:20230723T151923Z
LAST-MODIFIED:20250607T162611Z
UID:20905-1749826800-1749837600@threefeathersestate.com
SUMMARY:Three Feathers Wine Pour at New Seasons Market - Nyberg Rivers
DESCRIPTION:Three Feathers Wine Pour at New Seasons Market – Nyberg Rivers\n\nJoin us for a Three Feathers Wine Pour at New Seasons Market – Nyberg Rivers in Tualatin.   We will be there on Friday\, June 13th from 3 – 6 pm. \nThese complimentary tastings are great opportunity to try and purchase a selection of Three Feathers Wines\, such as our 2021 Pinot Gris and 2020 Pinot Madeleine.
URL:https://threefeathersestate.com/event/three-feathers-wine-pour-at-new-seasons-market-nyberg-rivers-3/
LOCATION:New Seasons Market – Nyberg Rivers\, 7703 Southwest Nyberg Street\, Tualatin\, OR\, 97062\, United States
CATEGORIES:Wine Tasting
ATTACH;FMTTYPE=image/jpeg:https://threefeathersestate.com/wp-content/uploads/2023/03/new-seasons-market-nyberg-rivers.jpg
ORGANIZER;CN="Three Feathers Estate":MAILTO:contactus@threefeathersestate.com
END:VEVENT
BEGIN:VEVENT
DTSTART;TZID=America/Los_Angeles:20250614T120000
DTEND;TZID=America/Los_Angeles:20250614T150000
DTSTAMP:20260425T041807
CREATED:20241003T184154Z
LAST-MODIFIED:20250607T162238Z
UID:21846-1749902400-1749913200@threefeathersestate.com
SUMMARY:Three Feathers Wine Pour at Crate&Barrel in Bridgeport Village
DESCRIPTION:Three Feathers Wine Pour at Crate&Barrel in Bridgeport Village\n \nJoin us for a Three Feathers Wine Pour at Crate&Barrel in Bridgeport Village.   We will be there on Saturday\, June 14th from 12 noon – 3 pm. \nThese complimentary tastings are great opportunity to try and purchase a selection of Three Feathers Wines\, such as our 2022 Pinot Gris and 2020 Pinot Madeleine.
URL:https://threefeathersestate.com/event/three-feathers-wine-pour-at-cratebarrel-in-bridgeport-village-3/
LOCATION:Crate&Barrel\, 7267 SW Bridgeport Rd\, Tigard\, OR\, 97224\, United States
CATEGORIES:Wine Tasting
ATTACH;FMTTYPE=image/jpeg:https://threefeathersestate.com/wp-content/uploads/2024/10/cratebarrel-wine-pour.jpg
ORGANIZER;CN="Three Feathers Estate":MAILTO:contactus@threefeathersestate.com
END:VEVENT
END:VCALENDAR