BEGIN:VCALENDAR
VERSION:2.0
PRODID:-//Three Feathers Wines &amp; Vineyards - ECPv6.15.20//NONSGML v1.0//EN
CALSCALE:GREGORIAN
METHOD:PUBLISH
X-WR-CALNAME:Three Feathers Wines &amp; Vineyards
X-ORIGINAL-URL:https://threefeathersestate.com
X-WR-CALDESC:Events for Three Feathers Wines &amp; Vineyards
REFRESH-INTERVAL;VALUE=DURATION:PT1H
X-Robots-Tag:noindex
X-PUBLISHED-TTL:PT1H
BEGIN:VTIMEZONE
TZID:America/Los_Angeles
BEGIN:DAYLIGHT
TZOFFSETFROM:-0800
TZOFFSETTO:-0700
TZNAME:PDT
DTSTART:20230312T100000
END:DAYLIGHT
BEGIN:STANDARD
TZOFFSETFROM:-0700
TZOFFSETTO:-0800
TZNAME:PST
DTSTART:20231105T090000
END:STANDARD
BEGIN:DAYLIGHT
TZOFFSETFROM:-0800
TZOFFSETTO:-0700
TZNAME:PDT
DTSTART:20240310T100000
END:DAYLIGHT
BEGIN:STANDARD
TZOFFSETFROM:-0700
TZOFFSETTO:-0800
TZNAME:PST
DTSTART:20241103T090000
END:STANDARD
BEGIN:DAYLIGHT
TZOFFSETFROM:-0800
TZOFFSETTO:-0700
TZNAME:PDT
DTSTART:20250309T100000
END:DAYLIGHT
BEGIN:STANDARD
TZOFFSETFROM:-0700
TZOFFSETTO:-0800
TZNAME:PST
DTSTART:20251102T090000
END:STANDARD
END:VTIMEZONE
BEGIN:VEVENT
DTSTART;TZID=America/Los_Angeles:20241207T150000
DTEND;TZID=America/Los_Angeles:20241207T190000
DTSTAMP:20260425T130614
CREATED:20231128T211225Z
LAST-MODIFIED:20241206T152433Z
UID:21337-1733583600-1733598000@threefeathersestate.com
SUMMARY:Three Feathers Wine Pour at Puppernickel during Hillsboro SIP & SHOP
DESCRIPTION:Three Feathers is Pouring at Puppernickel during Hillsboro SIP & SHOP\n \nJoin us for a Three Feathers Wine Pour at Puppernickel 244 E. Main Street\, Hillsboro Oregon 97123.  We will be there on Saturday\, December 7th from 3 – 7 pm during Historic Hillsboro’s winter event Sip & Shop. \nThese complimentary tastings are great opportunity to try and purchase a selection of Three Feathers Wines\, such as our 2022 Pinot Gris and 2021 Pinot Madeleine.
URL:https://threefeathersestate.com/event/three-feathers-wine-pour-at-sniders-hill-theater-antique-mall-during-hillsboro-sip-shop/
LOCATION:Puppernickel\, 244 E. Main Street\, Hillsboro\, 97123\, United States
CATEGORIES:Wine Tasting
ATTACH;FMTTYPE=image/png:https://threefeathersestate.com/wp-content/uploads/2023/11/Sip-and-Shop-Hillsboro-Wine-Pour-at-Puppernickel.png
ORGANIZER;CN="Three Feathers Estate":MAILTO:contactus@threefeathersestate.com
END:VEVENT
BEGIN:VEVENT
DTSTART;TZID=America/Los_Angeles:20241214T120000
DTEND;TZID=America/Los_Angeles:20241214T150000
DTSTAMP:20260425T130614
CREATED:20241003T184932Z
LAST-MODIFIED:20241003T185000Z
UID:21848-1734177600-1734188400@threefeathersestate.com
SUMMARY:Three Feathers Wine Pour at Crate&Barrel in Bridgeport Village
DESCRIPTION:Three Feathers Wine Pour at Crate&Barrel in Bridgeport Village\n \nJoin us for a Three Feathers Wine Pour at Crate&Barrel in Bridgeport Village.   We will be there on Saturday\, December 14th from 12 noon – 3 pm. \nThese complimentary tastings are great opportunity to try and purchase a selection of Three Feathers Wines\, such as our 2022 Pinot Gris and 2020 Pinot Madeleine.
URL:https://threefeathersestate.com/event/three-feathers-wine-pour-at-cratebarrel-in-bridgeport-village-4/
LOCATION:Crate&Barrel\, 7267 SW Bridgeport Rd\, Tigard\, OR\, 97224\, United States
CATEGORIES:Wine Tasting
ATTACH;FMTTYPE=image/jpeg:https://threefeathersestate.com/wp-content/uploads/2024/10/cratebarrel-wine-pour.jpg
ORGANIZER;CN="Three Feathers Estate":MAILTO:contactus@threefeathersestate.com
END:VEVENT
BEGIN:VEVENT
DTSTART;TZID=America/Los_Angeles:20241215T130000
DTEND;TZID=America/Los_Angeles:20241215T160000
DTSTAMP:20260425T130614
CREATED:20231016T162643Z
LAST-MODIFIED:20241211T153138Z
UID:21178-1734267600-1734278400@threefeathersestate.com
SUMMARY:Three Feathers Wine Pour at New Seasons Market in Raleigh Hills
DESCRIPTION:Three Feathers is Pouring at New Seasons Market in Raleigh Hills\n \nJoin us for a Three Feathers Wine Pour at New Seasons Market in Raleigh Hills.   We will be there on Friday\, December 15th from 1 – 4 pm. \nThese complimentary tastings are great opportunity to try and purchase a selection of Three Feathers Wines\, such as our 2021 Pinot Gris and 2020 Pinot Madeleine.
URL:https://threefeathersestate.com/event/three-feathers-wine-pour-at-new-seasons-market-in-raleigh-hills-2/
LOCATION:New Seasons Raleigh Hills\, 7300 Southwest Beaverton Hillsdale Highway Portland\, Raleigh Hills\, OR\, 97225\, United States
CATEGORIES:Wine Tasting
ATTACH;FMTTYPE=image/jpeg:https://threefeathersestate.com/wp-content/uploads/2023/07/three-feathers-wine-pour-new-seasons-raleigh-hills.jpg
ORGANIZER;CN="Three Feathers Estate":MAILTO:contactus@threefeathersestate.com
END:VEVENT
BEGIN:VEVENT
DTSTART;TZID=America/Los_Angeles:20241218T140000
DTEND;TZID=America/Los_Angeles:20241218T170000
DTSTAMP:20260425T130614
CREATED:20230326T194949Z
LAST-MODIFIED:20241207T154339Z
UID:20586-1734530400-1734541200@threefeathersestate.com
SUMMARY:Three Feathers Wine Pour at New Seasons Market (Progress Ridge) in Beaverton
DESCRIPTION:Three Feathers Wine Pour at New Seasons Market (Progress Ridge) in Beaverton\n \nJoin us for a Three Feathers Wine Pour at New Seasons Market (Progress Ridge) in Beaverton.   We will be there on Wednesday\, December 18th from 2 pm to 5 pm. \nThese complimentary tastings are great opportunity to try and purchase a selection of Three Feathers Wines\, such as our 2021 Pinot Gris and 2020 Pinot Madeleine.
URL:https://threefeathersestate.com/event/three-feathers-wine-pour-at-new-seasons-market-progress-ridge-in-beaverton-2/
LOCATION:New Seasons Market Progress Ridge\, 14805 Southwest Barrows Road\, Beaverton\, OR\, 97007\, United States
CATEGORIES:Wine Tasting
ATTACH;FMTTYPE=image/jpeg:https://threefeathersestate.com/wp-content/uploads/2022/11/new-seasons-market-progress-ridge-beaverton-oregon.jpg
ORGANIZER;CN="Three Feathers Estate":MAILTO:contactus@threefeathersestate.com
END:VEVENT
BEGIN:VEVENT
DTSTART;TZID=America/Los_Angeles:20241220T150000
DTEND;TZID=America/Los_Angeles:20241220T180000
DTSTAMP:20260425T130614
CREATED:20241003T185230Z
LAST-MODIFIED:20241003T185304Z
UID:21850-1734706800-1734717600@threefeathersestate.com
SUMMARY:Three Feathers Wine Pour at Crate&Barrel in Bridgeport Village
DESCRIPTION:Three Feathers Wine Pour at Crate&Barrel in Bridgeport Village\n \nJoin us for a Three Feathers Wine Pour at Crate&Barrel in Bridgeport Village.   We will be there on Friday\, December 20th from 3 – 6 pm. \nThese complimentary tastings are great opportunity to try and purchase a selection of Three Feathers Wines\, such as our 2022 Pinot Gris and 2020 Pinot Madeleine.
URL:https://threefeathersestate.com/event/three-feathers-wine-pour-at-cratebarrel-in-bridgeport-village-5/
LOCATION:Crate&Barrel\, 7267 SW Bridgeport Rd\, Tigard\, OR\, 97224\, United States
CATEGORIES:Wine Tasting
ATTACH;FMTTYPE=image/jpeg:https://threefeathersestate.com/wp-content/uploads/2024/10/cratebarrel-wine-pour.jpg
ORGANIZER;CN="Three Feathers Estate":MAILTO:contactus@threefeathersestate.com
END:VEVENT
BEGIN:VEVENT
DTSTART;TZID=America/Los_Angeles:20241221T150000
DTEND;TZID=America/Los_Angeles:20241221T180000
DTSTAMP:20260425T130614
CREATED:20231005T191808Z
LAST-MODIFIED:20241207T154514Z
UID:21093-1734793200-1734804000@threefeathersestate.com
SUMMARY:Three Feathers Wine Pour at New Seasons Market (Cedar Hills) - Beaverton
DESCRIPTION:Three Feathers Wine Pour at New Seasons Market (Cedar Hills) – Beaverton\n\nJoin us for a Three Feathers Wine Pour at New Seasons Market (Cedar Hills) – Beaverton.   We will be there on Saturday\, December 21st from 3 – 6 pm. \nThese complimentary tastings are great opportunity to try and purchase a selection of Three Feathers Wines\, such as our 2021 Pinot Gris and 2020 Pinot Madeleine.
URL:https://threefeathersestate.com/event/three-feathers-wine-pour-at-new-seasons-market-cedar-hills-beaverton-3/
LOCATION:New Seasons Market in Cedar Hills\, 3495 Southwest Cedar Hills Boulevard\, Beaverton\, OR\, 97005\, United States
CATEGORIES:Wine Tasting
ATTACH;FMTTYPE=image/jpeg:https://threefeathersestate.com/wp-content/uploads/2023/02/new-seasons-market-cedar-hills-beaverton.jpg
ORGANIZER;CN="Three Feathers Estate":MAILTO:contactus@threefeathersestate.com
END:VEVENT
END:VCALENDAR