BEGIN:VCALENDAR
VERSION:2.0
PRODID:-//Three Feathers Wines &amp; Vineyards - ECPv6.15.20//NONSGML v1.0//EN
CALSCALE:GREGORIAN
METHOD:PUBLISH
X-WR-CALNAME:Three Feathers Wines &amp; Vineyards
X-ORIGINAL-URL:https://threefeathersestate.com
X-WR-CALDESC:Events for Three Feathers Wines &amp; Vineyards
REFRESH-INTERVAL;VALUE=DURATION:PT1H
X-Robots-Tag:noindex
X-PUBLISHED-TTL:PT1H
BEGIN:VTIMEZONE
TZID:America/Los_Angeles
BEGIN:DAYLIGHT
TZOFFSETFROM:-0800
TZOFFSETTO:-0700
TZNAME:PDT
DTSTART:20240310T100000
END:DAYLIGHT
BEGIN:STANDARD
TZOFFSETFROM:-0700
TZOFFSETTO:-0800
TZNAME:PST
DTSTART:20241103T090000
END:STANDARD
BEGIN:DAYLIGHT
TZOFFSETFROM:-0800
TZOFFSETTO:-0700
TZNAME:PDT
DTSTART:20250309T100000
END:DAYLIGHT
BEGIN:STANDARD
TZOFFSETFROM:-0700
TZOFFSETTO:-0800
TZNAME:PST
DTSTART:20251102T090000
END:STANDARD
BEGIN:DAYLIGHT
TZOFFSETFROM:-0800
TZOFFSETTO:-0700
TZNAME:PDT
DTSTART:20260308T100000
END:DAYLIGHT
BEGIN:STANDARD
TZOFFSETFROM:-0700
TZOFFSETTO:-0800
TZNAME:PST
DTSTART:20261101T090000
END:STANDARD
END:VTIMEZONE
BEGIN:VEVENT
DTSTART;TZID=America/Los_Angeles:20250212T170000
DTEND;TZID=America/Los_Angeles:20250212T200000
DTSTAMP:20260425T114345
CREATED:20231005T193642Z
LAST-MODIFIED:20250126T191239Z
UID:21099-1739379600-1739390400@threefeathersestate.com
SUMMARY:Three Feathers Wine Pour at Willamette Wine Storage
DESCRIPTION:Join us for a Three Feathers Wine Pour at Willamette Wine Storage\, 1930 NW 23rd Place\, Portland\, Oregon 97210.  We will be there on Wednesday\, February 12th from 5 – 8 pm. \nThese complimentary tastings are great opportunity to try and purchase a selection of Three Feathers Wines\, such as our 2021 Pinot Gris and 2022 Pinot POP.
URL:https://threefeathersestate.com/event/three-feathers-wine-pour-at-willamette-wine-storage-portland-oregon/
LOCATION:Willamette Wine Storage\, 1930 NW 23rd Place\, Portland\, 97210\, United States
CATEGORIES:Wine Tasting
ATTACH;FMTTYPE=image/jpeg:https://threefeathersestate.com/wp-content/uploads/2023/10/willamette-wine-storage-three-feathers-wine-pour.jpg
ORGANIZER;CN="Three Feathers Estate":MAILTO:contactus@threefeathersestate.com
END:VEVENT
END:VCALENDAR