BEGIN:VCALENDAR
VERSION:2.0
PRODID:-//Three Feathers Wines &amp; Vineyards - ECPv6.15.20//NONSGML v1.0//EN
CALSCALE:GREGORIAN
METHOD:PUBLISH
X-ORIGINAL-URL:https://threefeathersestate.com
X-WR-CALDESC:Events for Three Feathers Wines &amp; Vineyards
REFRESH-INTERVAL;VALUE=DURATION:PT1H
X-Robots-Tag:noindex
X-PUBLISHED-TTL:PT1H
BEGIN:VTIMEZONE
TZID:America/Los_Angeles
BEGIN:DAYLIGHT
TZOFFSETFROM:-0800
TZOFFSETTO:-0700
TZNAME:PDT
DTSTART:20230312T100000
END:DAYLIGHT
BEGIN:STANDARD
TZOFFSETFROM:-0700
TZOFFSETTO:-0800
TZNAME:PST
DTSTART:20231105T090000
END:STANDARD
BEGIN:DAYLIGHT
TZOFFSETFROM:-0800
TZOFFSETTO:-0700
TZNAME:PDT
DTSTART:20240310T100000
END:DAYLIGHT
BEGIN:STANDARD
TZOFFSETFROM:-0700
TZOFFSETTO:-0800
TZNAME:PST
DTSTART:20241103T090000
END:STANDARD
BEGIN:DAYLIGHT
TZOFFSETFROM:-0800
TZOFFSETTO:-0700
TZNAME:PDT
DTSTART:20250309T100000
END:DAYLIGHT
BEGIN:STANDARD
TZOFFSETFROM:-0700
TZOFFSETTO:-0800
TZNAME:PST
DTSTART:20251102T090000
END:STANDARD
END:VTIMEZONE
BEGIN:VEVENT
DTSTART;TZID=America/Los_Angeles:20240803T150000
DTEND;TZID=America/Los_Angeles:20240803T180000
DTSTAMP:20260425T184313
CREATED:20240409T091908Z
LAST-MODIFIED:20240729T154255Z
UID:21547-1722697200-1722708000@threefeathersestate.com
SUMMARY:Three Feathers Wine Pour at Helvetia Market in Hillsboro
DESCRIPTION:Three Feathers is Pouring at Helvetia Market in Hillsboro\n \nJoin us for a Three Feathers Wine Pour at Helvetia Market – 23137 NW West Union Road\, Hillsboro\, Or 97124.   We will be there on Saturday\, August 3rd from 3 – 6pm. \nYou can purchase a selection of our wines throughout the year at this Helvetia Market\, such as our 2017 Cuvée Virginia\, however this is an opportunity to attend a complimentary tasting and try them first!
URL:https://threefeathersestate.com/event/three-feathers-wine-pour-at-helvetia-market-in-hillsboro-5/
LOCATION:Helvetia Market\, 23137 NW West Union Road\, Hillsboro\, OR\, 97124\, United States
CATEGORIES:Wine Tasting
ATTACH;FMTTYPE=image/jpeg:https://threefeathersestate.com/wp-content/uploads/2024/04/three-feathers-wine-pour-helvetia-market-hillsboro-oregon.jpg
ORGANIZER;CN="Three Feathers Estate":MAILTO:contactus@threefeathersestate.com
END:VEVENT
BEGIN:VEVENT
DTSTART;TZID=America/Los_Angeles:20240831T130000
DTEND;TZID=America/Los_Angeles:20240831T160000
DTSTAMP:20260425T184313
CREATED:20230723T155649Z
LAST-MODIFIED:20240818T150313Z
UID:20923-1725109200-1725120000@threefeathersestate.com
SUMMARY:Three Feathers Wine Pour at Williams-Sonoma - Brewery Blocks
DESCRIPTION:Three Feathers is Pouring at Williams-Sonoma – Brewery Blocks\n \n  \nJoin us for a Three Feathers Wine Pour at Williams-Sonoma – 1202 NW Davis St\, Portland\, OR 97209.  We will be there on Saturday\, August 31th from 1 – 4 pm. \nThe nation’s premier Kitchen Store paired with the region’s most unknown hidden gem boutique winery! We are proud to be able to demonstrate our wines at this gorgeous venue. \nThese complimentary tastings are great opportunity to try and purchase a selection of Three Feathers Wines\, such as our 2021 Pinot Gris and 2020 Pinot Madeleine.
URL:https://threefeathersestate.com/event/three-feathers-wine-pour-at-williams-sonoma-washington-square-16/
LOCATION:Williams-Sonoma – Brewery Blocks\, 1202 NW Davis Street\, Portland\, Oregon\, 97209\, United States
CATEGORIES:Wine Tasting
ATTACH;FMTTYPE=image/jpeg:https://threefeathersestate.com/wp-content/uploads/2022/06/three-feathers-wines-at-williams-sonoma-washington-square-location.jpg
ORGANIZER;CN="Three Feathers Estate":MAILTO:contactus@threefeathersestate.com
END:VEVENT
END:VCALENDAR