BEGIN:VCALENDAR
VERSION:2.0
PRODID:-//Three Feathers Wines &amp; Vineyards - ECPv6.15.20//NONSGML v1.0//EN
CALSCALE:GREGORIAN
METHOD:PUBLISH
X-ORIGINAL-URL:https://threefeathersestate.com
X-WR-CALDESC:Events for Three Feathers Wines &amp; Vineyards
REFRESH-INTERVAL;VALUE=DURATION:PT1H
X-Robots-Tag:noindex
X-PUBLISHED-TTL:PT1H
BEGIN:VTIMEZONE
TZID:America/Los_Angeles
BEGIN:DAYLIGHT
TZOFFSETFROM:-0800
TZOFFSETTO:-0700
TZNAME:PDT
DTSTART:20240310T100000
END:DAYLIGHT
BEGIN:STANDARD
TZOFFSETFROM:-0700
TZOFFSETTO:-0800
TZNAME:PST
DTSTART:20241103T090000
END:STANDARD
BEGIN:DAYLIGHT
TZOFFSETFROM:-0800
TZOFFSETTO:-0700
TZNAME:PDT
DTSTART:20250309T100000
END:DAYLIGHT
BEGIN:STANDARD
TZOFFSETFROM:-0700
TZOFFSETTO:-0800
TZNAME:PST
DTSTART:20251102T090000
END:STANDARD
BEGIN:DAYLIGHT
TZOFFSETFROM:-0800
TZOFFSETTO:-0700
TZNAME:PDT
DTSTART:20260308T100000
END:DAYLIGHT
BEGIN:STANDARD
TZOFFSETFROM:-0700
TZOFFSETTO:-0800
TZNAME:PST
DTSTART:20261101T090000
END:STANDARD
END:VTIMEZONE
BEGIN:VEVENT
DTSTART;TZID=America/Los_Angeles:20250809T130000
DTEND;TZID=America/Los_Angeles:20250809T160000
DTSTAMP:20260425T082402
CREATED:20240518T192341Z
LAST-MODIFIED:20250803T154800Z
UID:21471-1754744400-1754755200@threefeathersestate.com
SUMMARY:Three Feathers Wine Pour at New Seasons Market - Nyberg Rivers
DESCRIPTION:Three Feathers Wine Pour at New Seasons Market – Nyberg Rivers\n\nJoin us for a Three Feathers Wine Pour at New Seasons Market – Nyberg Rivers in Tualatin.   We will be there on Saturday\, August 9th from 1 – 4 pm. \nThese complimentary tastings are great opportunity to try and purchase a selection of Three Feathers Wines\, such as our 2022 Pinot Gris and 2020 Pinot Madeleine.
URL:https://threefeathersestate.com/event/three-feathers-wine-pour-at-new-seasons-market-nyberg-rivers-6/
LOCATION:New Seasons Market – Nyberg Rivers\, 7703 Southwest Nyberg Street\, Tualatin\, OR\, 97062\, United States
CATEGORIES:Wine Tasting
ATTACH;FMTTYPE=image/jpeg:https://threefeathersestate.com/wp-content/uploads/2023/03/new-seasons-market-nyberg-rivers.jpg
ORGANIZER;CN="Three Feathers Estate":MAILTO:contactus@threefeathersestate.com
END:VEVENT
BEGIN:VEVENT
DTSTART;TZID=America/Los_Angeles:20250810T130000
DTEND;TZID=America/Los_Angeles:20250810T160000
DTSTAMP:20260425T082402
CREATED:20240519T183756Z
LAST-MODIFIED:20250803T155352Z
UID:21388-1754830800-1754841600@threefeathersestate.com
SUMMARY:Three Feathers Wine Pour at Williams-Sonoma - Washington Square
DESCRIPTION:Three Feathers is Pouring at Williams-Sonoma – Washington Square\n \nJoin us for a Three Feathers Wine Pour at Williams-Sonoma – 9367 SW Washington Square Rd\, Tigard\, OR 97223.  We will be there on Sunday\, August 10th from 1 – 4 pm. \nThe nation’s premier Kitchen Store paired with the region’s most unknown hidden gem boutique winery! We are proud to be able to demonstrate our wines at this gorgeous venue. \nThese complimentary tastings are great opportunity to try and purchase a selection of Three Feathers Wines\, such as our 2022 Pinot Gris and 2020 Pinot Madeleine.
URL:https://threefeathersestate.com/event/three-feathers-wine-pour-at-williams-sonoma-washington-square-23/
LOCATION:Three Feathers Estate & Vineyard\, 19569 SW Finnigan Hill Road\, Hillsboro\, OR\, 97123\, United States
CATEGORIES:Wine Tasting
ATTACH;FMTTYPE=image/jpeg:https://threefeathersestate.com/wp-content/uploads/2021/07/williams-sonoma-the-store-is-yours-three-feathers-tasting.jpg
ORGANIZER;CN="Three Feathers Estate":MAILTO:contactus@threefeathersestate.com
END:VEVENT
END:VCALENDAR