BEGIN:VCALENDAR
VERSION:2.0
PRODID:-//Three Feathers Wines &amp; Vineyards - ECPv6.15.20//NONSGML v1.0//EN
CALSCALE:GREGORIAN
METHOD:PUBLISH
X-ORIGINAL-URL:https://threefeathersestate.com
X-WR-CALDESC:Events for Three Feathers Wines &amp; Vineyards
REFRESH-INTERVAL;VALUE=DURATION:PT1H
X-Robots-Tag:noindex
X-PUBLISHED-TTL:PT1H
BEGIN:VTIMEZONE
TZID:America/Los_Angeles
BEGIN:DAYLIGHT
TZOFFSETFROM:-0800
TZOFFSETTO:-0700
TZNAME:PDT
DTSTART:20240310T100000
END:DAYLIGHT
BEGIN:STANDARD
TZOFFSETFROM:-0700
TZOFFSETTO:-0800
TZNAME:PST
DTSTART:20241103T090000
END:STANDARD
BEGIN:DAYLIGHT
TZOFFSETFROM:-0800
TZOFFSETTO:-0700
TZNAME:PDT
DTSTART:20250309T100000
END:DAYLIGHT
BEGIN:STANDARD
TZOFFSETFROM:-0700
TZOFFSETTO:-0800
TZNAME:PST
DTSTART:20251102T090000
END:STANDARD
BEGIN:DAYLIGHT
TZOFFSETFROM:-0800
TZOFFSETTO:-0700
TZNAME:PDT
DTSTART:20260308T100000
END:DAYLIGHT
BEGIN:STANDARD
TZOFFSETFROM:-0700
TZOFFSETTO:-0800
TZNAME:PST
DTSTART:20261101T090000
END:STANDARD
END:VTIMEZONE
BEGIN:VEVENT
DTSTART;TZID=America/Los_Angeles:20250914T120000
DTEND;TZID=America/Los_Angeles:20250914T150000
DTSTAMP:20260425T051328
CREATED:20240409T074522Z
LAST-MODIFIED:20250901T132134Z
UID:21522-1757851200-1757862000@threefeathersestate.com
SUMMARY:Three Feathers Wine Pour at Williams-Sonoma - Washington Square
DESCRIPTION:Three Feathers is Pouring at Williams-Sonoma – Washington Square\n \nJoin us for a Three Feathers Wine Pour at Williams-Sonoma – 9367 SW Washington Square Rd\, Tigard\, OR 97223.  We will be there on Sunday\, September 14th from 12 noon – 3 pm. \nThe nation’s premier Kitchen Store paired with the region’s most unknown hidden gem boutique winery! We are proud to be able to demonstrate our wines at this gorgeous venue. \nThese complimentary tastings are great opportunity to try and purchase a selection of Three Feathers Wines\, such as our 2022 Pinot Gris and 2020 Pinot Madeleine.
URL:https://threefeathersestate.com/event/three-feathers-wine-pour-at-williams-sonoma-washington-square-24/
LOCATION:Williams-Sonoma – Washington Square\, 9367 SW Washington Square Road\, Tigard\, OR\, 97223\, United States
CATEGORIES:Wine Tasting
ATTACH;FMTTYPE=image/jpeg:https://threefeathersestate.com/wp-content/uploads/2023/04/three-feathers-at-williams-sonoma-oregon-2.jpg
ORGANIZER;CN="Three Feathers Estate":MAILTO:contactus@threefeathersestate.com
END:VEVENT
END:VCALENDAR