BEGIN:VCALENDAR
VERSION:2.0
PRODID:-//Three Feathers Wines &amp; Vineyards - ECPv6.15.20//NONSGML v1.0//EN
CALSCALE:GREGORIAN
METHOD:PUBLISH
X-ORIGINAL-URL:https://threefeathersestate.com
X-WR-CALDESC:Events for Three Feathers Wines &amp; Vineyards
REFRESH-INTERVAL;VALUE=DURATION:PT1H
X-Robots-Tag:noindex
X-PUBLISHED-TTL:PT1H
BEGIN:VTIMEZONE
TZID:America/Los_Angeles
BEGIN:DAYLIGHT
TZOFFSETFROM:-0800
TZOFFSETTO:-0700
TZNAME:PDT
DTSTART:20240310T100000
END:DAYLIGHT
BEGIN:STANDARD
TZOFFSETFROM:-0700
TZOFFSETTO:-0800
TZNAME:PST
DTSTART:20241103T090000
END:STANDARD
BEGIN:DAYLIGHT
TZOFFSETFROM:-0800
TZOFFSETTO:-0700
TZNAME:PDT
DTSTART:20250309T100000
END:DAYLIGHT
BEGIN:STANDARD
TZOFFSETFROM:-0700
TZOFFSETTO:-0800
TZNAME:PST
DTSTART:20251102T090000
END:STANDARD
BEGIN:DAYLIGHT
TZOFFSETFROM:-0800
TZOFFSETTO:-0700
TZNAME:PDT
DTSTART:20260308T100000
END:DAYLIGHT
BEGIN:STANDARD
TZOFFSETFROM:-0700
TZOFFSETTO:-0800
TZNAME:PST
DTSTART:20261101T090000
END:STANDARD
BEGIN:DAYLIGHT
TZOFFSETFROM:-0800
TZOFFSETTO:-0700
TZNAME:PDT
DTSTART:20270314T100000
END:DAYLIGHT
BEGIN:STANDARD
TZOFFSETFROM:-0700
TZOFFSETTO:-0800
TZNAME:PST
DTSTART:20271107T090000
END:STANDARD
END:VTIMEZONE
BEGIN:VEVENT
DTSTART;TZID=America/Los_Angeles:20251230T150000
DTEND;TZID=America/Los_Angeles:20251230T180000
DTSTAMP:20260425T082617
CREATED:20240409T083645Z
LAST-MODIFIED:20251206T204737Z
UID:21537-1767106800-1767117600@threefeathersestate.com
SUMMARY:Three Feathers Wine Pour at New Seasons Market in Raleigh Hills
DESCRIPTION:Three Feathers is Pouring at New Seasons Market in Raleigh Hills\n \nJoin us for a Three Feathers Wine Pour at New Seasons Market in Raleigh Hills.   We will be there on Thursday\, December 30th from 3 – 6 pm. \nThese complimentary tastings are great opportunity to try and purchase a selection of Three Feathers Wines\, such as our 2021 Pinot Gris and 2020 Pinot Madeleine.
URL:https://threefeathersestate.com/event/three-feathers-wine-pour-at-new-seasons-market-in-raleigh-hills-4/
LOCATION:New Seasons Raleigh Hills\, 7300 Southwest Beaverton Hillsdale Highway Portland\, Raleigh Hills\, OR\, 97225\, United States
CATEGORIES:Wine Tasting
ATTACH;FMTTYPE=image/jpeg:https://threefeathersestate.com/wp-content/uploads/2023/07/three-feathers-wine-pour-new-seasons-raleigh-hills.jpg
ORGANIZER;CN="Three Feathers Estate":MAILTO:contactus@threefeathersestate.com
END:VEVENT
BEGIN:VEVENT
DTSTART;TZID=America/Los_Angeles:20260307T130000
DTEND;TZID=America/Los_Angeles:20260307T160000
DTSTAMP:20260425T082617
CREATED:20240514T193539Z
LAST-MODIFIED:20260222T202420Z
UID:21475-1772888400-1772899200@threefeathersestate.com
SUMMARY:Three Feathers Wine Pour at New Seasons Market (Mountain Park) in Lake Oswego
DESCRIPTION:Three Feathers Wine Pour at New Seasons Market (Mountain Park) in Lake Oswego\n \nJoin us for a Three Feathers Wine Pour at New Seasons Market (Mountain Park) in Lake Oswego.   We will be there on Saturday\, December 6th from 1 – 4 pm. \nThese complimentary tastings are great opportunity to try and purchase a selection of Three Feathers Wines\, such as our 2021 Pinot Gris and 2020 Pinot Madeleine.
URL:https://threefeathersestate.com/event/three-feathers-wine-pour-at-new-seasons-market-mountain-park-in-lake-oswego-6/
LOCATION:New Seasons Market – Mountain Park\, Lake Oswego\, 3 Monroe Parkway\, Lake Oswego\, OR\, 97035\, United States
CATEGORIES:Wine Tasting
ATTACH;FMTTYPE=image/jpeg:https://threefeathersestate.com/wp-content/uploads/2023/02/new-seasons-market-mountain-park-lake-oswego.jpg
ORGANIZER;CN="Three Feathers Estate":MAILTO:contactus@threefeathersestate.com
END:VEVENT
BEGIN:VEVENT
DTSTART;TZID=America/Los_Angeles:20260314T130000
DTEND;TZID=America/Los_Angeles:20260314T160000
DTSTAMP:20260425T082617
CREATED:20231005T191223Z
LAST-MODIFIED:20260310T122903Z
UID:21090-1773493200-1773504000@threefeathersestate.com
SUMMARY:Three Feathers Wine Pour at Market of Choice - Cedar Mills location
DESCRIPTION:Three Feathers Wine Pour at Market of Choice – Cedar Mills Location\n \n  \nJoin us for a Three Feathers Wine Pour at Market of Choice – Cedar Mills location – 250 NW Lost Springs Terrace\, Portland\, OR 97229 on Saturday\, March 14th from 1 – 4 pm. \nYou can purchase our wines throughout the year at this Market of Choice location\, however this is an opportunity to attend a complimentary tasting and try them first! \n \nCheck out our other schedule Wine Tastings on our Events Calendar!
URL:https://threefeathersestate.com/event/three-feathers-wine-pour-at-market-of-choice-belmont-location-5/
LOCATION:Market of Choice – Cedar Mill Location\, Timberland Town Center\, 250 NW Lost Springs Terrace\, Portland\, OR\, 97229\, United States
CATEGORIES:Wine Tasting
ATTACH;FMTTYPE=image/jpeg:https://threefeathersestate.com/wp-content/uploads/2022/08/three-feathers-wine-pour-market-of-choice-cedar-mills-2.jpg
ORGANIZER;CN="Three Feathers Estate":MAILTO:contactus@threefeathersestate.com
END:VEVENT
BEGIN:VEVENT
DTSTART;TZID=America/Los_Angeles:20260403T170000
DTEND;TZID=America/Los_Angeles:20260403T200000
DTSTAMP:20260425T082617
CREATED:20220506T162139Z
LAST-MODIFIED:20260327T173702Z
UID:18885-1775235600-1775246400@threefeathersestate.com
SUMMARY:Three Feathers is Pouring at Art Elements Gallery - Newberg Art Walk
DESCRIPTION:Three Feathers is Pouring at Art Elements Gallery – Newberg Art Walk\nThree Feathers is pouring at Art Elements Gallery on Friday\, April 3rd from 5 – 8 pm during the Newberg Art Walk. \nThis is a great moment to stop by for a taste and grab a few bottles of our small-lot Estate grown exclusive wines for the wine lovers in your life!
URL:https://threefeathersestate.com/event/three-feathers-is-pouring-at-art-elements-gallery-newberg-art-walk/
LOCATION:Art Elements Gallery\, 604 E First Street\, Newberg\, Oregon\, 97132
CATEGORIES:Wine Tasting
ATTACH;FMTTYPE=image/jpeg:https://threefeathersestate.com/wp-content/uploads/2023/07/three-feathers-pinot-gris-2022.jpg
ORGANIZER;CN="Three Feathers Estate":MAILTO:contactus@threefeathersestate.com
END:VEVENT
BEGIN:VEVENT
DTSTART;TZID=America/Los_Angeles:20260509T150000
DTEND;TZID=America/Los_Angeles:20260509T180000
DTSTAMP:20260425T082617
CREATED:20250901T130927Z
LAST-MODIFIED:20260327T173824Z
UID:22105-1778338800-1778349600@threefeathersestate.com
SUMMARY:Three Feathers Wine Pour at Market of Choice - Reed's Crossing in Hillsboro
DESCRIPTION:Three Feathers Wine Pour at Market of Choice – Reed’s Crossing in Hillsboro\n \nJoin us for a Three Feathers Wine Pour at Market of Choice – Reed’s Crossing Location – 3515 SE Cornelius Pass Road\, Hillsboro\, OR 97123 on Saturday\, May 9th from 3 – 6 pm. \nYou can purchase our wines throughout the year at this Market of Choice location\, however this is an opportunity to attend a complimentary tasting and try them first! \n \nCheck out our other schedule Wine Tastings on our Events Calendar!
URL:https://threefeathersestate.com/event/three-feathers-wine-pour-at-market-of-choice-reeds-crossing-in-hillsboro-2/
LOCATION:Market of Choice – Reed’s Crossing Location\, 3515 SE Cornelius Pass Road\, Hillsboro\, OR\, 97123\, United States
CATEGORIES:Wine Tasting
ATTACH;FMTTYPE=image/jpeg:https://threefeathersestate.com/wp-content/uploads/2025/07/market-of-choice-reeds-crossing-hillsboro.jpg
ORGANIZER;CN="Three Feathers Estate":MAILTO:contactus@threefeathersestate.com
END:VEVENT
END:VCALENDAR