BEGIN:VCALENDAR
VERSION:2.0
PRODID:-//Three Feathers Wines &amp; Vineyards - ECPv6.15.20//NONSGML v1.0//EN
CALSCALE:GREGORIAN
METHOD:PUBLISH
X-WR-CALNAME:Three Feathers Wines &amp; Vineyards
X-ORIGINAL-URL:https://threefeathersestate.com
X-WR-CALDESC:Events for Three Feathers Wines &amp; Vineyards
REFRESH-INTERVAL;VALUE=DURATION:PT1H
X-Robots-Tag:noindex
X-PUBLISHED-TTL:PT1H
BEGIN:VTIMEZONE
TZID:America/Los_Angeles
BEGIN:DAYLIGHT
TZOFFSETFROM:-0800
TZOFFSETTO:-0700
TZNAME:PDT
DTSTART:20200308T100000
END:DAYLIGHT
BEGIN:STANDARD
TZOFFSETFROM:-0700
TZOFFSETTO:-0800
TZNAME:PST
DTSTART:20201101T090000
END:STANDARD
BEGIN:DAYLIGHT
TZOFFSETFROM:-0800
TZOFFSETTO:-0700
TZNAME:PDT
DTSTART:20210314T100000
END:DAYLIGHT
BEGIN:STANDARD
TZOFFSETFROM:-0700
TZOFFSETTO:-0800
TZNAME:PST
DTSTART:20211107T090000
END:STANDARD
BEGIN:DAYLIGHT
TZOFFSETFROM:-0800
TZOFFSETTO:-0700
TZNAME:PDT
DTSTART:20220313T100000
END:DAYLIGHT
BEGIN:STANDARD
TZOFFSETFROM:-0700
TZOFFSETTO:-0800
TZNAME:PST
DTSTART:20221106T090000
END:STANDARD
BEGIN:DAYLIGHT
TZOFFSETFROM:-0800
TZOFFSETTO:-0700
TZNAME:PDT
DTSTART:20230312T100000
END:DAYLIGHT
BEGIN:STANDARD
TZOFFSETFROM:-0700
TZOFFSETTO:-0800
TZNAME:PST
DTSTART:20231105T090000
END:STANDARD
END:VTIMEZONE
BEGIN:VEVENT
DTSTART;TZID=America/Los_Angeles:20220218T153000
DTEND;TZID=America/Los_Angeles:20220218T183000
DTSTAMP:20260425T110646
CREATED:20220203T211901Z
LAST-MODIFIED:20220506T153212Z
UID:16067-1645198200-1645209000@threefeathersestate.com
SUMMARY:Wine Tasting at Helvetia Market in Hillsboro
DESCRIPTION:Our wines are available for purchase at Helvetia Market\, 23137 NW West Union Road\, Hillsboro 97124. \nWe are organizing a Wine Tasting at Helvetia Market on Friday\, February 18th from 3:30 pm to 6:30 pm.
URL:https://threefeathersestate.com/event/wine-tasting-at-helvetia-market-in-hillsboro-4/
LOCATION:Helvetia Market\, 23137 NW West Union Road\, Hillsboro\, OR\, 97124\, United States
CATEGORIES:Wine Tasting
ATTACH;FMTTYPE=image/jpeg:https://threefeathersestate.com/wp-content/uploads/2021/10/helvetia-market-three-feathers-wine-tasting-e1649188167871.jpg
ORGANIZER;CN="Three Feathers Estate":MAILTO:contactus@threefeathersestate.com
END:VEVENT
BEGIN:VEVENT
DTSTART;TZID=America/Los_Angeles:20220213T110000
DTEND;TZID=America/Los_Angeles:20220213T150000
DTSTAMP:20260425T110646
CREATED:20220203T212456Z
LAST-MODIFIED:20220405T195502Z
UID:16071-1644750000-1644764400@threefeathersestate.com
SUMMARY:Wine Tasting at Williams-Sonoma
DESCRIPTION:Three Feathers will be pouring at Williams-Sonoma in Washington Square Shopping Center\, 9367 SW Washington Square Road\, Tigard\, Oregon 97223 on Sunday\, February 13th from 11 am to 3 pm.  Shop for your Valentine and pick up a couple of Three Feathers bottles to celebrate!
URL:https://threefeathersestate.com/event/wine-tasting-at-williams-sonoma-5/
LOCATION:Williams-Sonoma – Washington Square\, 9367 SW Washington Square Road\, Tigard\, OR\, 97223\, United States
CATEGORIES:Wine Tasting
ATTACH;FMTTYPE=image/jpeg:https://threefeathersestate.com/wp-content/uploads/2022/02/Pinot-POP-color-of-hearts-and-roses.jpg
ORGANIZER;CN="Three Feathers Estate":MAILTO:contactus@threefeathersestate.com
END:VEVENT
BEGIN:VEVENT
DTSTART;TZID=America/Los_Angeles:20220211T163000
DTEND;TZID=America/Los_Angeles:20220211T183000
DTSTAMP:20260425T110646
CREATED:20211121T160859Z
LAST-MODIFIED:20220207T204203Z
UID:15427-1644597000-1644604200@threefeathersestate.com
SUMMARY:Wine Tasting at Ernesto's Italian Restaurant in Raleigh Hills
DESCRIPTION:Join Three Feathers at Ernesto’s Italian Restaurant for a wine tasting on Friday\, February 11th from 4:30 pm – 6:30 pm.
URL:https://threefeathersestate.com/event/wine-tasting-at-ernestos-italian-restaurant-in-raleigh-hills-2/
LOCATION:Ernesto’s Italian Restaurant\, 8544 SW Apple Way\, Portland\, 97225\, United States
CATEGORIES:Wine Tasting
ORGANIZER;CN="Three Feathers Estate":MAILTO:contactus@threefeathersestate.com
END:VEVENT
BEGIN:VEVENT
DTSTART;TZID=America/Los_Angeles:20220206T110000
DTEND;TZID=America/Los_Angeles:20220206T150000
DTSTAMP:20260425T110646
CREATED:20220203T212056Z
LAST-MODIFIED:20220203T213047Z
UID:16069-1644145200-1644159600@threefeathersestate.com
SUMMARY:Wine Tasting at Williams-Sonoma
DESCRIPTION:Three Feathers will be pouring at Williams-Sonoma in Washington Square Shopping Center\, 9367 SW Washington Square Road\, Tigard\, Oregon 97223 on Sunday\, February 6th from 11 am to 3 pm.  Join us and check out their beautiful store!
URL:https://threefeathersestate.com/event/wine-tasting-at-williams-sonoma-4/
LOCATION:Williams-Sonoma – Washington Square\, 9367 SW Washington Square Road\, Tigard\, OR\, 97223\, United States
CATEGORIES:Wine Tasting
ATTACH;FMTTYPE=image/jpeg:https://threefeathersestate.com/wp-content/uploads/2021/07/williams-sonoma-the-store-is-yours-three-feathers-tasting.jpg
ORGANIZER;CN="Three Feathers Estate":MAILTO:contactus@threefeathersestate.com
END:VEVENT
BEGIN:VEVENT
DTSTART;TZID=America/Los_Angeles:20211219T110000
DTEND;TZID=America/Los_Angeles:20211219T150000
DTSTAMP:20260425T110646
CREATED:20211121T143427Z
LAST-MODIFIED:20211121T144529Z
UID:15419-1639911600-1639926000@threefeathersestate.com
SUMMARY:Wine Tasting at Williams-Sonoma
DESCRIPTION:Three Feathers will be pouring at Williams-Sonoma in Washington Square Shopping Center\, 9367 SW Washington Square Road\, Tigard\, Oregon 97223 on Sunday\, December 19th from 11 am to 3 pm.  Join us and check out their beautiful store!
URL:https://threefeathersestate.com/event/wine-tasting-at-williams-sonoma-2/
LOCATION:Williams-Sonoma – Washington Square\, 9367 SW Washington Square Road\, Tigard\, OR\, 97223\, United States
CATEGORIES:Wine Tasting
ATTACH;FMTTYPE=image/jpeg:https://threefeathersestate.com/wp-content/uploads/2021/11/2020-Pinot-Gris-vintage-from-Three-Feathers-Estate.jpg
ORGANIZER;CN="Three Feathers Estate":MAILTO:contactus@threefeathersestate.com
END:VEVENT
BEGIN:VEVENT
DTSTART;TZID=America/Los_Angeles:20211217T163000
DTEND;TZID=America/Los_Angeles:20211217T183000
DTSTAMP:20260425T110646
CREATED:20211202T105427Z
LAST-MODIFIED:20211204T190824Z
UID:15443-1639758600-1639765800@threefeathersestate.com
SUMMARY:Wine Tasting at Helvetia Market in Hillsboro
DESCRIPTION:Our wines are available for purchase at Helvetia Market\, 23137 NW West Union Road\, Hillsboro 97124! \nWe are organizing a Wine Tasting at Helvetia Market on Friday\, December 17th from 4:30 pm to 6:30 pm. \n 
URL:https://threefeathersestate.com/event/wine-tasting-at-helvetia-market-in-hillsboro-3/
LOCATION:Helvetia Market\, 23137 NW West Union Road\, Hillsboro\, OR\, 97124\, United States
CATEGORIES:Wine Tasting
ATTACH;FMTTYPE=image/jpeg:https://threefeathersestate.com/wp-content/uploads/2021/10/helvetia-market-three-feathers-wine-tasting-e1649188167871.jpg
ORGANIZER;CN="Three Feathers Estate":MAILTO:contactus@threefeathersestate.com
END:VEVENT
BEGIN:VEVENT
DTSTART;TZID=America/Los_Angeles:20211212T110000
DTEND;TZID=America/Los_Angeles:20211212T150000
DTSTAMP:20260425T110646
CREATED:20211121T143832Z
LAST-MODIFIED:20211121T144522Z
UID:15421-1639306800-1639321200@threefeathersestate.com
SUMMARY:Wine Tasting at Williams-Sonoma
DESCRIPTION:Three Feathers will be pouring at Williams-Sonoma in Washington Square Shopping Center\, 9367 SW Washington Square Road\, Tigard\, Oregon 97223 on Sunday\, September 12th from 11 am to 3 pm.  Join us and check out their beautiful store!
URL:https://threefeathersestate.com/event/wine-tasting-at-williams-sonoma-3/
LOCATION:Williams-Sonoma – Washington Square\, 9367 SW Washington Square Road\, Tigard\, OR\, 97223\, United States
CATEGORIES:Wine Tasting
ATTACH;FMTTYPE=image/jpeg:https://threefeathersestate.com/wp-content/uploads/2021/11/three-feathers-block-2-fall-day-photo-elise-prudhomme.jpg
ORGANIZER;CN="Three Feathers Estate":MAILTO:contactus@threefeathersestate.com
END:VEVENT
BEGIN:VEVENT
DTSTART;TZID=America/Los_Angeles:20211203T170000
DTEND;TZID=America/Los_Angeles:20211203T200000
DTSTAMP:20260425T110646
CREATED:20211121T160344Z
LAST-MODIFIED:20220506T162458Z
UID:15425-1638550800-1638561600@threefeathersestate.com
SUMMARY:Three Feathers is Pouring at Art Elements Gallery - Newberg Art Walk
DESCRIPTION:Three Feathers is Pouring at Art Elements Gallery – Newberg Art Walk\nThree Feathers is pouring at Art Elements Gallery on Friday\, December 3rd from 5 – 8 pm during the Newberg Art Walk!  This is a great moment to stop by for a taste and grab a few bottles of our small-lot Estate grown exclusive wines for the wine lovers in your life!
URL:https://threefeathersestate.com/event/three-feathers-is-pouring-at-art-elements-gallery-newberg-art-walk-2/
LOCATION:Art Elements Gallery\, 604 E First Street\, Newberg\, Oregon\, 97132
CATEGORIES:Wine Tasting
ATTACH;FMTTYPE=image/jpeg:https://threefeathersestate.com/wp-content/uploads/2021/11/Wine-tasting-outing-with-the-Three-Feathers-Crew.jpg
ORGANIZER;CN="Three Feathers Estate":MAILTO:contactus@threefeathersestate.com
END:VEVENT
BEGIN:VEVENT
DTSTART;TZID=America/Los_Angeles:20211017T120000
DTEND;TZID=America/Los_Angeles:20211017T170000
DTSTAMP:20260425T110646
CREATED:20210914T164657Z
LAST-MODIFIED:20220414T112043Z
UID:15306-1634472000-1634490000@threefeathersestate.com
SUMMARY:Three Feathers Harvest Party\, Wine Tasting & Club Member pick-up 2021
DESCRIPTION:Elise Prudhomme harvesting Pinot Noir Précoce at Torio Vineyard. \nCelebrating the 2021 Harvest \nThis fall we are introducing the first vintage of our rare Pinot Noir Madeleine. A ruby colored wine with light tannins and a strong finish\, we picked these grapes almost a year ago. They were pressed with 25% whole cluster and aged in new oak for 10 months. See our blog article about Précoce (aka Pinot Madeleine or Frühburgunder) on our website. We believe we are among the very few in Oregon to have this grape. \nIn addition\, our 2020 Pinot Gris was honored by James Suckling with a 90 point rating\, as was our library wine\, the 2017 Pinot Noir\, of which there are only 7 cases remaining. \nThe 2018 Blanc de Noirs is also almost sold out\, so if you enjoy that Blush now is the time. Alternatively\, the 2020 Blanc de Noirs is a lovely edition to our white wines and a very different version of our “Whites from Red”. \nOur Harvest Party is a rare opportunity to sample delicious Burgundy-style Pinot Noir and to taste and purchase our wines which are exclusively available online. \nWe look forward to sharing our production with you!
URL:https://threefeathersestate.com/event/three-feathers-harvest-party-wine-tasting-club-member-pick-up-2021/
LOCATION:Three Feathers Estate & Vineyard\, 19569 SW Finnigan Hill Road\, Hillsboro\, OR\, 97123\, United States
CATEGORIES:Wine Tasting
ATTACH;FMTTYPE=image/jpeg:https://threefeathersestate.com/wp-content/uploads/2021/09/three-feathers-pinot-noir-precoce-ripe-clusters.jpg
ORGANIZER;CN="Three Feathers Estate":MAILTO:contactus@threefeathersestate.com
END:VEVENT
BEGIN:VEVENT
DTSTART;TZID=America/Los_Angeles:20211009T023000
DTEND;TZID=America/Los_Angeles:20211009T183000
DTSTAMP:20260425T110646
CREATED:20211007T073526Z
LAST-MODIFIED:20211007T074103Z
UID:15368-1633746600-1633804200@threefeathersestate.com
SUMMARY:Wine Tasting at Helvetia Market in Hillsboro
DESCRIPTION:Our wines are now available for purchase at Helvetia Market\, 23137 NW West Union Road\, Hillsboro 97124! \nWe are organizing a Wine Tasting at Helvetia Market on Saturday\, October 9th from 2:30 pm to 6:30 pm.
URL:https://threefeathersestate.com/event/wine-tasting-at-helvetia-market-in-hillsboro-2/
LOCATION:Helvetia Market\, 23137 NW West Union Road\, Hillsboro\, OR\, 97124\, United States
CATEGORIES:Wine Tasting
ATTACH;FMTTYPE=image/jpeg:https://threefeathersestate.com/wp-content/uploads/2021/10/helvetia-market-three-feathers-wine-tasting-e1649188167871.jpg
ORGANIZER;CN="Three Feathers Estate":MAILTO:contactus@threefeathersestate.com
END:VEVENT
BEGIN:VEVENT
DTSTART;TZID=America/Los_Angeles:20211001T170000
DTEND;TZID=America/Los_Angeles:20211001T200000
DTSTAMP:20260425T110646
CREATED:20210928T192818Z
LAST-MODIFIED:20210928T193118Z
UID:15364-1633107600-1633118400@threefeathersestate.com
SUMMARY:Pouring at Art Elements Gallery - Newberg Art Walk
DESCRIPTION:Join us during the Newberg Art Walk! \nWe are thrilled to be pouring at Art Elements Gallery on Friday\, October 1st during the Newberg Art Walk! All of our wines will be featured for tasting. It is a great moment to stop by for a taste and grab a few bottles of our small-lot Estate grown exclusive wines for the wine lovers in your life!
URL:https://threefeathersestate.com/event/pouring-at-art-elements-gallery-newberg-art-walk-4/
LOCATION:Art Elements Gallery\, 604 E First Street\, Newberg\, Oregon\, 97132
CATEGORIES:Wine Tasting
ATTACH;FMTTYPE=image/jpeg:https://threefeathersestate.com/wp-content/uploads/2021/09/Three-Feathers-Pinot-POP™.jpg
ORGANIZER;CN="Three Feathers Estate":MAILTO:contactus@threefeathersestate.com
END:VEVENT
BEGIN:VEVENT
DTSTART;TZID=America/Los_Angeles:20210919T110000
DTEND;TZID=America/Los_Angeles:20210919T150000
DTSTAMP:20260425T110646
CREATED:20210914T165213Z
LAST-MODIFIED:20210914T165451Z
UID:15311-1632049200-1632063600@threefeathersestate.com
SUMMARY:Wine Tasting at Williams-Sonoma
DESCRIPTION:Three Feathers will be pouring at Williams-Sonoma in Washington Square Shopping Center – Tigard\, Oregon on Sunday\, September 19th from 11 am to 3 pm.  Join us and check out their beautiful store!
URL:https://threefeathersestate.com/event/wine-tasting-at-williams-sonoma/
LOCATION:Williams-Sonoma – Washington Square\, 9367 SW Washington Square Road\, Tigard\, OR\, 97223\, United States
CATEGORIES:Wine Tasting
ATTACH;FMTTYPE=image/jpeg:https://threefeathersestate.com/wp-content/uploads/2021/09/three-feathers-fresh-blackberry-pie-recipe-2.jpg
ORGANIZER;CN="Three Feathers Estate":MAILTO:contactus@threefeathersestate.com
END:VEVENT
BEGIN:VEVENT
DTSTART;TZID=America/Los_Angeles:20210917T160000
DTEND;TZID=America/Los_Angeles:20210917T183000
DTSTAMP:20260425T110646
CREATED:20210904T192358Z
LAST-MODIFIED:20210904T192546Z
UID:15117-1631894400-1631903400@threefeathersestate.com
SUMMARY:Wine Tasting at Ickabods Bar & Grill in Beaverton
DESCRIPTION:Join Three Feathers at Ickabods Bar & Grill\, 12475 SW 1st Street\, Beaverton\, Oregon!  We will be pouring from 4 to 6:30 pm on Friday September 17th!
URL:https://threefeathersestate.com/event/wine-tasting-at-ickabods-bar-grill-in-beaverton/
LOCATION:Ickabods Bar & Grill\, 12475 SW 1st Street\, Beaverton\, OR\, 97005\, United States
CATEGORIES:Wine Tasting
ATTACH;FMTTYPE=image/jpeg:https://threefeathersestate.com/wp-content/uploads/2021/09/ickabods-bar-grill-beaverton-oregon.jpg
ORGANIZER;CN="Three Feathers Estate":MAILTO:contactus@threefeathersestate.com
END:VEVENT
BEGIN:VEVENT
DTSTART;TZID=America/Los_Angeles:20210903T170000
DTEND;TZID=America/Los_Angeles:20210903T200000
DTSTAMP:20260425T110646
CREATED:20210827T140922Z
LAST-MODIFIED:20210827T140955Z
UID:15111-1630688400-1630699200@threefeathersestate.com
SUMMARY:Pouring at Art Elements Gallery - Newberg Art Walk
DESCRIPTION:Newberg Art Walk is back! \nWe are thrilled to be pouring at Art Elements Gallery on Friday\, September 3rd during the Newberg Art Walk!  All of our wines will be featured for tasting.  It is a great moment to stop by for a taste and grab a few bottles of our small-lot Estate grown exclusive wines for the wine lovers in your life!
URL:https://threefeathersestate.com/event/pouring-at-art-elements-gallery-newberg-art-walk-3/
LOCATION:Art Elements Gallery\, 604 E First Street\, Newberg\, Oregon\, 97132
CATEGORIES:Wine Tasting
ATTACH;FMTTYPE=image/jpeg:https://threefeathersestate.com/wp-content/uploads/2021/08/2020-three-feathers-pinot-gris-cannon-beach-oregon.jpg
ORGANIZER;CN="Three Feathers Estate":MAILTO:contactus@threefeathersestate.com
END:VEVENT
BEGIN:VEVENT
DTSTART;TZID=America/Los_Angeles:20210827T160000
DTEND;TZID=America/Los_Angeles:20210827T183000
DTSTAMP:20260425T110646
CREATED:20210726T191028Z
LAST-MODIFIED:20210730T185943Z
UID:15002-1630080000-1630089000@threefeathersestate.com
SUMMARY:Wine Tasting at Helvetia Market in Hillsboro
DESCRIPTION:Our wines are now available for purchase at Helvetia Market\, 23137 NW West Union Road\, Hillsboro 97124! \nWe are organizing a Wine Tasting at Helvetia Market on Friday\, August 27th from 4:00 pm to 6:30 pm.
URL:https://threefeathersestate.com/event/wine-tasting-at-helvetia-market-in-hillsboro/
LOCATION:Helvetia Market\, 23137 NW West Union Road\, Hillsboro\, OR\, 97124\, United States
CATEGORIES:Wine Tasting
ATTACH;FMTTYPE=image/jpeg:https://threefeathersestate.com/wp-content/uploads/2021/04/three-feathers-2020-pinot-gris-outdoors.jpg
ORGANIZER;CN="Three Feathers Estate":MAILTO:contactus@threefeathersestate.com
END:VEVENT
BEGIN:VEVENT
DTSTART;TZID=America/Los_Angeles:20210820T163000
DTEND;TZID=America/Los_Angeles:20210820T183000
DTSTAMP:20260425T110646
CREATED:20210709T161801Z
LAST-MODIFIED:20210726T190531Z
UID:14973-1629477000-1629484200@threefeathersestate.com
SUMMARY:Wine Tasting at Ernesto's Italian Restaurant in Raleigh Hills
DESCRIPTION:Join Three Feathers at Ernesto’s Italian Restaurant for a wine tasting on August 20th from 4:30 pm – 6:30 pm.
URL:https://threefeathersestate.com/event/wine-tasting-at-ernestos-italian-restaurant-in-raleigh-hills/
LOCATION:Ernesto’s Italian Restaurant\, 8544 SW Apple Way\, Portland\, 97225\, United States
CATEGORIES:Wine Tasting
ATTACH;FMTTYPE=image/jpeg:https://threefeathersestate.com/wp-content/uploads/2021/06/three-feathers-memorial-weekend-wine-tasting-open-house-2021-3.jpg
ORGANIZER;CN="Three Feathers Estate":MAILTO:contactus@threefeathersestate.com
END:VEVENT
BEGIN:VEVENT
DTSTART;TZID=America/Los_Angeles:20210813T160000
DTEND;TZID=America/Los_Angeles:20210813T183000
DTSTAMP:20260425T110646
CREATED:20210726T185938Z
LAST-MODIFIED:20210730T185702Z
UID:14997-1628870400-1628879400@threefeathersestate.com
SUMMARY:Wine Tasting at Newberg Liquor
DESCRIPTION:Featuring Summer Whites and introducing our Pinot POP™ (a delightfully sparkling Pinot Noir made from the Pommard clone).  Join us there for a scheduled wine tasting on Friday\, August 13th from 4:00 – 6:30 pm. \nThree Feathers is available for purchase at Newberg Liquor Store at 2303 Portland Road in downtown Newberg\, Oregon.
URL:https://threefeathersestate.com/event/wine-tasting-at-newberg-liquor-3/
LOCATION:Newberg Liquor\, 2303 Portland Road\, Newberg\, OR\, 97132\, United States
CATEGORIES:Wine Tasting
ATTACH;FMTTYPE=image/jpeg:https://threefeathersestate.com/wp-content/uploads/2021/06/three-feathers-memorial-weekend-wine-tasting-open-house-2021-5.jpg
ORGANIZER;CN="Three Feathers Estate":MAILTO:contactus@threefeathersestate.com
END:VEVENT
BEGIN:VEVENT
DTSTART;TZID=America/Los_Angeles:20210806T170000
DTEND;TZID=America/Los_Angeles:20210806T210000
DTSTAMP:20260425T110646
CREATED:20210709T161117Z
LAST-MODIFIED:20210713T204817Z
UID:14971-1628269200-1628283600@threefeathersestate.com
SUMMARY:Pouring at Art Elements Gallery - Newberg Art Walk
DESCRIPTION:Newberg Art Walk is back! \nWe are thrilled to be pouring at Art Elements Gallery on August 6th during the Newberg Art Walk!  All of our wines will be featured for tasting.  It is a great moment to stop by for a taste and grab a few bottles of our small-lot Estate grown exclusive wines for the wine lovers in your life!
URL:https://threefeathersestate.com/event/pouring-at-art-elements-gallery-newberg-art-walk-2/
LOCATION:Art Elements Gallery\, 604 E First Street\, Newberg\, Oregon\, 97132
CATEGORIES:Wine Tasting
ATTACH;FMTTYPE=image/jpeg:https://threefeathersestate.com/wp-content/uploads/2021/05/three-feathers-handful-pinot-precoce-photo-elise-prudhomme.jpg
ORGANIZER;CN="Three Feathers Estate":MAILTO:contactus@threefeathersestate.com
END:VEVENT
BEGIN:VEVENT
DTSTART;TZID=America/Los_Angeles:20210801T110000
DTEND;TZID=America/Los_Angeles:20210801T150000
DTSTAMP:20260425T110646
CREATED:20210713T202723Z
LAST-MODIFIED:20210713T203517Z
UID:14967-1627815600-1627830000@threefeathersestate.com
SUMMARY:Wine Tasting during the Williams-Sonoma Bridal / The Store is Yours Event
DESCRIPTION:Three Feathers Estate & Vineyard is pleased to be present at the Williams Sonoma Bridal Event “The Store is Yours” on August 1st\, 2021 from 11 am to 3 pm at Washington Square Shopping Center.  Enjoy a complimentary tasting of Three Feathers Pinot Gris and Pinot Noir wines while shopping for your bridal registry.
URL:https://threefeathersestate.com/event/wine-tasting-during-the-williams-sonoma-bridal-the-store-is-yours-event/
LOCATION:Williams-Sonoma – Washington Square\, 9367 SW Washington Square Road\, Tigard\, OR\, 97223\, United States
CATEGORIES:Wine Tasting
ATTACH;FMTTYPE=image/jpeg:https://threefeathersestate.com/wp-content/uploads/2021/07/williams-sonoma-the-store-is-yours-three-feathers-tasting.jpg
ORGANIZER;CN="Three Feathers Estate":MAILTO:contactus@threefeathersestate.com
END:VEVENT
BEGIN:VEVENT
DTSTART;TZID=America/Los_Angeles:20210716T163000
DTEND;TZID=America/Los_Angeles:20210716T183000
DTSTAMP:20260425T110646
CREATED:20210622T040421Z
LAST-MODIFIED:20210709T160344Z
UID:14897-1626453000-1626460200@threefeathersestate.com
SUMMARY:Wine Tasting at Newberg Liquor
DESCRIPTION:Three Feathers is available for purchase at Newberg Liquor Store at 2303 Portland Road in downtown Newberg\, Oregon. \nJoin us there for a scheduled wine tasting on Friday\, July 16th from 4:30 – 6:30 pm.
URL:https://threefeathersestate.com/event/wine-tasting-at-newberg-liquor-2/
LOCATION:Newberg Liquor\, 2303 Portland Road\, Newberg\, OR\, 97132\, United States
CATEGORIES:Wine Tasting
ATTACH;FMTTYPE=image/jpeg:https://threefeathersestate.com/wp-content/uploads/2021/04/three-feathers-2020-pinot-gris-outdoors.jpg
ORGANIZER;CN="Three Feathers Estate":MAILTO:contactus@threefeathersestate.com
END:VEVENT
END:VCALENDAR